BEGIN:VCALENDAR
VERSION:2.0
PRODID:-//Columbus Adventist Academy - ECPv6.15.20//NONSGML v1.0//EN
CALSCALE:GREGORIAN
METHOD:PUBLISH
X-ORIGINAL-URL:https://caa4eternity.org
X-WR-CALDESC:Events for Columbus Adventist Academy
REFRESH-INTERVAL;VALUE=DURATION:PT1H
X-Robots-Tag:noindex
X-PUBLISHED-TTL:PT1H
BEGIN:VTIMEZONE
TZID:America/New_York
BEGIN:DAYLIGHT
TZOFFSETFROM:-0500
TZOFFSETTO:-0400
TZNAME:EDT
DTSTART:20240310T070000
END:DAYLIGHT
BEGIN:STANDARD
TZOFFSETFROM:-0400
TZOFFSETTO:-0500
TZNAME:EST
DTSTART:20241103T060000
END:STANDARD
BEGIN:DAYLIGHT
TZOFFSETFROM:-0500
TZOFFSETTO:-0400
TZNAME:EDT
DTSTART:20250309T070000
END:DAYLIGHT
BEGIN:STANDARD
TZOFFSETFROM:-0400
TZOFFSETTO:-0500
TZNAME:EST
DTSTART:20251102T060000
END:STANDARD
BEGIN:DAYLIGHT
TZOFFSETFROM:-0500
TZOFFSETTO:-0400
TZNAME:EDT
DTSTART:20260308T070000
END:DAYLIGHT
BEGIN:STANDARD
TZOFFSETFROM:-0400
TZOFFSETTO:-0500
TZNAME:EST
DTSTART:20261101T060000
END:STANDARD
END:VTIMEZONE
BEGIN:VEVENT
DTSTART;VALUE=DATE:20251103
DTEND;VALUE=DATE:20251104
DTSTAMP:20260424T103556
CREATED:20250716T001241Z
LAST-MODIFIED:20250716T001241Z
UID:23268-1762128000-1762214399@caa4eternity.org
SUMMARY:Parent Teacher Conference - No School
DESCRIPTION:
URL:https://caa4eternity.org/event/parent-teacher-conference-no-school-2/
LOCATION:Columbus Adventist Academy\, 3650 Sunbury Rd\, Columbus\, OH\, 43219\, United States
END:VEVENT
BEGIN:VEVENT
DTSTART;VALUE=DATE:20251105
DTEND;VALUE=DATE:20251106
DTSTAMP:20260424T103556
CREATED:20250716T001315Z
LAST-MODIFIED:20250716T001315Z
UID:23270-1762300800-1762387199@caa4eternity.org
SUMMARY:1st Quarter Awards
DESCRIPTION:
URL:https://caa4eternity.org/event/1st-quarter-awards/
LOCATION:Columbus Adventist Academy\, 3650 Sunbury Rd\, Columbus\, OH\, 43219\, United States
END:VEVENT
BEGIN:VEVENT
DTSTART;VALUE=DATE:20251109
DTEND;VALUE=DATE:20251110
DTSTAMP:20260424T103556
CREATED:20250716T001342Z
LAST-MODIFIED:20250716T001342Z
UID:23272-1762646400-1762732799@caa4eternity.org
SUMMARY:SAT Testing
DESCRIPTION:
URL:https://caa4eternity.org/event/sat-testing-2/
LOCATION:Columbus Adventist Academy\, 3650 Sunbury Rd\, Columbus\, OH\, 43219\, United States
END:VEVENT
BEGIN:VEVENT
DTSTART;VALUE=DATE:20251111
DTEND;VALUE=DATE:20251112
DTSTAMP:20260424T103556
CREATED:20250716T001408Z
LAST-MODIFIED:20250716T001408Z
UID:23274-1762819200-1762905599@caa4eternity.org
SUMMARY:Veterans Day - No School
DESCRIPTION:
URL:https://caa4eternity.org/event/veterans-day-no-school-2/
LOCATION:Columbus Adventist Academy\, 3650 Sunbury Rd\, Columbus\, OH\, 43219\, United States
END:VEVENT
BEGIN:VEVENT
DTSTART;VALUE=DATE:20251118
DTEND;VALUE=DATE:20251119
DTSTAMP:20260424T103556
CREATED:20250716T001447Z
LAST-MODIFIED:20250716T001447Z
UID:23276-1763424000-1763510399@caa4eternity.org
SUMMARY:CAA Board Meeting
DESCRIPTION:
URL:https://caa4eternity.org/event/caa-board-meeting-14/
LOCATION:Columbus Adventist Academy\, 3650 Sunbury Rd\, Columbus\, OH\, 43219\, United States
END:VEVENT
BEGIN:VEVENT
DTSTART;VALUE=DATE:20251118
DTEND;VALUE=DATE:20251119
DTSTAMP:20260424T103556
CREATED:20250716T001801Z
LAST-MODIFIED:20250716T001801Z
UID:23284-1763424000-1763510399@caa4eternity.org
SUMMARY:CAA Board Meeting
DESCRIPTION:
URL:https://caa4eternity.org/event/caa-board-meeting-15/
LOCATION:Columbus Adventist Academy\, 3650 Sunbury Rd\, Columbus\, OH\, 43219\, United States
END:VEVENT
BEGIN:VEVENT
DTSTART;VALUE=DATE:20251121
DTEND;VALUE=DATE:20251122
DTSTAMP:20260424T103556
CREATED:20250716T001524Z
LAST-MODIFIED:20250716T001524Z
UID:23278-1763683200-1763769599@caa4eternity.org
SUMMARY:Early Dismissal - 2pm
DESCRIPTION:
URL:https://caa4eternity.org/event/early-dismissal-2pm-4/
LOCATION:Columbus Adventist Academy\, 3650 Sunbury Rd\, Columbus\, OH\, 43219\, United States
END:VEVENT
BEGIN:VEVENT
DTSTART;VALUE=DATE:20251124
DTEND;VALUE=DATE:20251129
DTSTAMP:20260424T103556
CREATED:20250716T001622Z
LAST-MODIFIED:20250716T001622Z
UID:23280-1763942400-1764374399@caa4eternity.org
SUMMARY:Thanksgiving Break - No School
DESCRIPTION:
URL:https://caa4eternity.org/event/thanksgiving-break-no-school-2/
LOCATION:Columbus Adventist Academy\, 3650 Sunbury Rd\, Columbus\, OH\, 43219\, United States
END:VEVENT
END:VCALENDAR