BEGIN:VCALENDAR
VERSION:2.0
PRODID:-//Columbus Adventist Academy - ECPv6.15.20//NONSGML v1.0//EN
CALSCALE:GREGORIAN
METHOD:PUBLISH
X-ORIGINAL-URL:https://caa4eternity.org
X-WR-CALDESC:Events for Columbus Adventist Academy
REFRESH-INTERVAL;VALUE=DURATION:PT1H
X-Robots-Tag:noindex
X-PUBLISHED-TTL:PT1H
BEGIN:VTIMEZONE
TZID:America/New_York
BEGIN:DAYLIGHT
TZOFFSETFROM:-0500
TZOFFSETTO:-0400
TZNAME:EDT
DTSTART:20240310T070000
END:DAYLIGHT
BEGIN:STANDARD
TZOFFSETFROM:-0400
TZOFFSETTO:-0500
TZNAME:EST
DTSTART:20241103T060000
END:STANDARD
BEGIN:DAYLIGHT
TZOFFSETFROM:-0500
TZOFFSETTO:-0400
TZNAME:EDT
DTSTART:20250309T070000
END:DAYLIGHT
BEGIN:STANDARD
TZOFFSETFROM:-0400
TZOFFSETTO:-0500
TZNAME:EST
DTSTART:20251102T060000
END:STANDARD
BEGIN:DAYLIGHT
TZOFFSETFROM:-0500
TZOFFSETTO:-0400
TZNAME:EDT
DTSTART:20260308T070000
END:DAYLIGHT
BEGIN:STANDARD
TZOFFSETFROM:-0400
TZOFFSETTO:-0500
TZNAME:EST
DTSTART:20261101T060000
END:STANDARD
END:VTIMEZONE
BEGIN:VEVENT
DTSTART;VALUE=DATE:20250901
DTEND;VALUE=DATE:20250902
DTSTAMP:20260424T132952
CREATED:20250716T000314Z
LAST-MODIFIED:20250716T000314Z
UID:23244-1756684800-1756771199@caa4eternity.org
SUMMARY:Labor Day - No School
DESCRIPTION:
URL:https://caa4eternity.org/event/labor-day-no-school-2/
LOCATION:Columbus Adventist Academy\, 3650 Sunbury Rd\, Columbus\, OH\, 43219\, United States
END:VEVENT
BEGIN:VEVENT
DTSTART;TZID=America/New_York:20250911T183000
DTEND;TZID=America/New_York:20250911T203000
DTSTAMP:20260424T132952
CREATED:20250716T000408Z
LAST-MODIFIED:20250804T130022Z
UID:23246-1757615400-1757622600@caa4eternity.org
SUMMARY:Open House
DESCRIPTION:
URL:https://caa4eternity.org/event/open-house-630pm/
LOCATION:Columbus Adventist Academy\, 3650 Sunbury Rd\, Columbus\, OH\, 43219\, United States
END:VEVENT
BEGIN:VEVENT
DTSTART;VALUE=DATE:20250914
DTEND;VALUE=DATE:20250915
DTSTAMP:20260424T132952
CREATED:20250716T000442Z
LAST-MODIFIED:20250716T000442Z
UID:23248-1757808000-1757894399@caa4eternity.org
SUMMARY:SAT Testing
DESCRIPTION:
URL:https://caa4eternity.org/event/sat-testing/
LOCATION:Columbus Adventist Academy\, 3650 Sunbury Rd\, Columbus\, OH\, 43219\, United States
END:VEVENT
BEGIN:VEVENT
DTSTART;VALUE=DATE:20250915
DTEND;VALUE=DATE:20250916
DTSTAMP:20260424T132952
CREATED:20250716T000512Z
LAST-MODIFIED:20250716T000512Z
UID:23250-1757894400-1757980799@caa4eternity.org
SUMMARY:Hispanic Heritage Month Begins
DESCRIPTION:
URL:https://caa4eternity.org/event/hispanic-heritage-month-begins/
LOCATION:Columbus Adventist Academy\, 3650 Sunbury Rd\, Columbus\, OH\, 43219\, United States
END:VEVENT
BEGIN:VEVENT
DTSTART;VALUE=DATE:20250916
DTEND;VALUE=DATE:20250917
DTSTAMP:20260424T132952
CREATED:20250716T000540Z
LAST-MODIFIED:20250716T000540Z
UID:23252-1757980800-1758067199@caa4eternity.org
SUMMARY:CAA Board Meeting
DESCRIPTION:
URL:https://caa4eternity.org/event/caa-board-meeting-12/
LOCATION:Columbus Adventist Academy\, 3650 Sunbury Rd\, Columbus\, OH\, 43219\, United States
END:VEVENT
BEGIN:VEVENT
DTSTART;VALUE=DATE:20250918
DTEND;VALUE=DATE:20250922
DTSTAMP:20260424T132952
CREATED:20250716T000827Z
LAST-MODIFIED:20250716T000827Z
UID:23256-1758153600-1758499199@caa4eternity.org
SUMMARY:SALT (Jr. Academy)
DESCRIPTION:
URL:https://caa4eternity.org/event/salt-jr-academy/
LOCATION:Columbus Adventist Academy\, 3650 Sunbury Rd\, Columbus\, OH\, 43219\, United States
END:VEVENT
BEGIN:VEVENT
DTSTART;VALUE=DATE:20250919
DTEND;VALUE=DATE:20250920
DTSTAMP:20260424T132952
CREATED:20250716T000618Z
LAST-MODIFIED:20250716T000618Z
UID:23254-1758240000-1758326399@caa4eternity.org
SUMMARY:Grandparent's Day
DESCRIPTION:
URL:https://caa4eternity.org/event/grandparents-day-2/
LOCATION:Columbus Adventist Academy\, 3650 Sunbury Rd\, Columbus\, OH\, 43219\, United States
END:VEVENT
BEGIN:VEVENT
DTSTART;VALUE=DATE:20250922
DTEND;VALUE=DATE:20250927
DTSTAMP:20260424T132952
CREATED:20250716T000904Z
LAST-MODIFIED:20250716T000904Z
UID:23258-1758499200-1758931199@caa4eternity.org
SUMMARY:Fall Week of Prayer
DESCRIPTION:
URL:https://caa4eternity.org/event/fall-week-of-prayer-6/
LOCATION:Columbus Adventist Academy\, 3650 Sunbury Rd\, Columbus\, OH\, 43219\, United States
END:VEVENT
END:VCALENDAR