BEGIN:VCALENDAR
VERSION:2.0
PRODID:-//Columbus Adventist Academy - ECPv6.15.20//NONSGML v1.0//EN
CALSCALE:GREGORIAN
METHOD:PUBLISH
X-ORIGINAL-URL:https://caa4eternity.org
X-WR-CALDESC:Events for Columbus Adventist Academy
REFRESH-INTERVAL;VALUE=DURATION:PT1H
X-Robots-Tag:noindex
X-PUBLISHED-TTL:PT1H
BEGIN:VTIMEZONE
TZID:America/New_York
BEGIN:DAYLIGHT
TZOFFSETFROM:-0500
TZOFFSETTO:-0400
TZNAME:EDT
DTSTART:20240310T070000
END:DAYLIGHT
BEGIN:STANDARD
TZOFFSETFROM:-0400
TZOFFSETTO:-0500
TZNAME:EST
DTSTART:20241103T060000
END:STANDARD
BEGIN:DAYLIGHT
TZOFFSETFROM:-0500
TZOFFSETTO:-0400
TZNAME:EDT
DTSTART:20250309T070000
END:DAYLIGHT
BEGIN:STANDARD
TZOFFSETFROM:-0400
TZOFFSETTO:-0500
TZNAME:EST
DTSTART:20251102T060000
END:STANDARD
BEGIN:DAYLIGHT
TZOFFSETFROM:-0500
TZOFFSETTO:-0400
TZNAME:EDT
DTSTART:20260308T070000
END:DAYLIGHT
BEGIN:STANDARD
TZOFFSETFROM:-0400
TZOFFSETTO:-0500
TZNAME:EST
DTSTART:20261101T060000
END:STANDARD
END:VTIMEZONE
BEGIN:VEVENT
DTSTART;VALUE=DATE:20250320
DTEND;VALUE=DATE:20250321
DTSTAMP:20260425T122030
CREATED:20250716T003934Z
LAST-MODIFIED:20250716T003934Z
UID:23311-1742428800-1742515199@caa4eternity.org
SUMMARY:End of 3rd Quarter
DESCRIPTION:
URL:https://caa4eternity.org/event/end-of-3rd-quarter-2/
LOCATION:Columbus Adventist Academy\, 3650 Sunbury Rd\, Columbus\, OH\, 43219\, United States
END:VEVENT
BEGIN:VEVENT
DTSTART;VALUE=DATE:20250402
DTEND;VALUE=DATE:20250403
DTSTAMP:20260425T122030
CREATED:20240723T200745Z
LAST-MODIFIED:20240723T200745Z
UID:16819-1743552000-1743638399@caa4eternity.org
SUMMARY:Awards Chapel
DESCRIPTION:
URL:https://caa4eternity.org/event/awards-chapel-3/
LOCATION:Columbus Adventist Academy\, 3650 Sunbury Rd\, Columbus\, OH\, 43219\, United States
ATTACH;FMTTYPE=image/png:https://caa4eternity.org/wp-content/uploads/2018/02/cropped-logo.png
END:VEVENT
BEGIN:VEVENT
DTSTART;TZID=America/New_York:20250403T080000
DTEND;TZID=America/New_York:20250403T170000
DTSTAMP:20260425T122030
CREATED:20250716T004101Z
LAST-MODIFIED:20250716T004101Z
UID:23313-1743667200-1743699600@caa4eternity.org
SUMMARY:Good Friday - No School
DESCRIPTION:
URL:https://caa4eternity.org/event/good-friday-no-school/
LOCATION:Columbus Adventist Academy\, 3650 Sunbury Rd\, Columbus\, OH\, 43219\, United States
END:VEVENT
BEGIN:VEVENT
DTSTART;VALUE=DATE:20250414
DTEND;VALUE=DATE:20250422
DTSTAMP:20260425T122030
CREATED:20240723T200853Z
LAST-MODIFIED:20240723T200853Z
UID:16821-1744588800-1745279999@caa4eternity.org
SUMMARY:Spring Break - No School
DESCRIPTION:
URL:https://caa4eternity.org/event/spring-break-no-school/
LOCATION:Columbus Adventist Academy\, 3650 Sunbury Rd\, Columbus\, OH\, 43219\, United States
ATTACH;FMTTYPE=image/png:https://caa4eternity.org/wp-content/uploads/2018/02/cropped-logo.png
END:VEVENT
BEGIN:VEVENT
DTSTART;TZID=America/New_York:20250415T183000
DTEND;TZID=America/New_York:20250415T203000
DTSTAMP:20260425T122030
CREATED:20240723T200937Z
LAST-MODIFIED:20240723T200937Z
UID:16823-1744741800-1744749000@caa4eternity.org
SUMMARY:CAA Board Meeting
DESCRIPTION:
URL:https://caa4eternity.org/event/caa-board-meeting-9/
LOCATION:Columbus Adventist Academy\, 3650 Sunbury Rd\, Columbus\, OH\, 43219\, United States
ATTACH;FMTTYPE=image/png:https://caa4eternity.org/wp-content/uploads/2018/02/cropped-logo.png
END:VEVENT
BEGIN:VEVENT
DTSTART;VALUE=DATE:20250429
DTEND;VALUE=DATE:20250430
DTSTAMP:20260425T122030
CREATED:20240723T201021Z
LAST-MODIFIED:20240723T201021Z
UID:16825-1745884800-1745971199@caa4eternity.org
SUMMARY:Science Fair
DESCRIPTION:
URL:https://caa4eternity.org/event/science-fair/
LOCATION:Columbus Adventist Academy\, 3650 Sunbury Rd\, Columbus\, OH\, 43219\, United States
ATTACH;FMTTYPE=image/png:https://caa4eternity.org/wp-content/uploads/2018/02/cropped-logo.png
END:VEVENT
BEGIN:VEVENT
DTSTART;TZID=America/New_York:20250502T100000
DTEND;TZID=America/New_York:20250502T140000
DTSTAMP:20260425T122030
CREATED:20250402T141521Z
LAST-MODIFIED:20250402T143819Z
UID:20452-1746180000-1746194400@caa4eternity.org
SUMMARY:Alumni Weekend: Career Day
DESCRIPTION:
URL:https://caa4eternity.org/event/alumni-weekend-career-day/
LOCATION:Columbus Adventist Academy\, 3650 Sunbury Rd\, Columbus\, OH\, 43219\, United States
CATEGORIES:Alumni Weekend
END:VEVENT
BEGIN:VEVENT
DTSTART;TZID=America/New_York:20250502T193000
DTEND;TZID=America/New_York:20250502T203000
DTSTAMP:20260425T122030
CREATED:20250402T141737Z
LAST-MODIFIED:20250402T143819Z
UID:20455-1746214200-1746217800@caa4eternity.org
SUMMARY:Alumni Weekend: Vespers
DESCRIPTION:
URL:https://caa4eternity.org/event/alumni-weekend-vespers/
LOCATION:Columbus Adventist Academy\, 3650 Sunbury Rd\, Columbus\, OH\, 43219\, United States
CATEGORIES:Alumni Weekend
END:VEVENT
BEGIN:VEVENT
DTSTART;TZID=America/New_York:20250503T110000
DTEND;TZID=America/New_York:20250503T123000
DTSTAMP:20260425T122030
CREATED:20250402T142059Z
LAST-MODIFIED:20250402T143819Z
UID:20459-1746270000-1746275400@caa4eternity.org
SUMMARY:Alumni Weekend: Divine Sabbath Worship Service
DESCRIPTION:
URL:https://caa4eternity.org/event/alumni-weekend-divine-sabbath-worship-service/
LOCATION:Ephesus Seventh Day Adventist Church\, 3650 Sunbury Rd\, Columbus\, OH\, 43219\, United States
CATEGORIES:Alumni Weekend
END:VEVENT
BEGIN:VEVENT
DTSTART;TZID=America/New_York:20250503T180000
DTEND;TZID=America/New_York:20250503T193000
DTSTAMP:20260425T122030
CREATED:20250402T142200Z
LAST-MODIFIED:20250402T143819Z
UID:20462-1746295200-1746300600@caa4eternity.org
SUMMARY:Alumni Weekend: CAA Concert
DESCRIPTION:
URL:https://caa4eternity.org/event/alumni-weekend-caa-concert/
LOCATION:Columbus Adventist Academy\, 3650 Sunbury Rd\, Columbus\, OH\, 43219\, United States
CATEGORIES:Alumni Weekend
END:VEVENT
BEGIN:VEVENT
DTSTART;TZID=America/New_York:20250503T203000
DTEND;TZID=America/New_York:20250503T220000
DTSTAMP:20260425T122030
CREATED:20250402T142247Z
LAST-MODIFIED:20250402T143819Z
UID:20464-1746304200-1746309600@caa4eternity.org
SUMMARY:Alumni Weekend: Recreation & Activities
DESCRIPTION:
URL:https://caa4eternity.org/event/alumni-weekend-recreation-activities/
LOCATION:Columbus Adventist Academy\, 3650 Sunbury Rd\, Columbus\, OH\, 43219\, United States
CATEGORIES:Alumni Weekend
END:VEVENT
BEGIN:VEVENT
DTSTART;TZID=America/New_York:20250504T100000
DTEND;TZID=America/New_York:20250504T120000
DTSTAMP:20260425T122030
CREATED:20250402T142348Z
LAST-MODIFIED:20250402T143819Z
UID:20466-1746352800-1746360000@caa4eternity.org
SUMMARY:Alumni Weekend: Open House\, Alumni Meet & Greet
DESCRIPTION:
URL:https://caa4eternity.org/event/alumni-weekend-open-house-alumni-meet-greet/
LOCATION:Columbus Adventist Academy\, 3650 Sunbury Rd\, Columbus\, OH\, 43219\, United States
CATEGORIES:Alumni Weekend
END:VEVENT
BEGIN:VEVENT
DTSTART;VALUE=DATE:20250505
DTEND;VALUE=DATE:20250510
DTSTAMP:20260425T122030
CREATED:20240723T201112Z
LAST-MODIFIED:20240723T201112Z
UID:16827-1746403200-1746835199@caa4eternity.org
SUMMARY:Spring Week of Prayer
DESCRIPTION:
URL:https://caa4eternity.org/event/spring-week-of-prayer/
LOCATION:Columbus Adventist Academy\, 3650 Sunbury Rd\, Columbus\, OH\, 43219\, United States
ATTACH;FMTTYPE=image/png:https://caa4eternity.org/wp-content/uploads/2018/02/cropped-logo.png
END:VEVENT
BEGIN:VEVENT
DTSTART;VALUE=DATE:20250505
DTEND;VALUE=DATE:20250510
DTSTAMP:20260425T122030
CREATED:20240723T201151Z
LAST-MODIFIED:20240723T201151Z
UID:16829-1746403200-1746835199@caa4eternity.org
SUMMARY:Teachers Appreciation Week
DESCRIPTION:
URL:https://caa4eternity.org/event/teachers-appreciation-week/
LOCATION:Columbus Adventist Academy\, 3650 Sunbury Rd\, Columbus\, OH\, 43219\, United States
ATTACH;FMTTYPE=image/png:https://caa4eternity.org/wp-content/uploads/2018/02/cropped-logo.png
END:VEVENT
BEGIN:VEVENT
DTSTART;VALUE=DATE:20250516
DTEND;VALUE=DATE:20250517
DTSTAMP:20260425T122030
CREATED:20240723T201231Z
LAST-MODIFIED:20240723T201231Z
UID:16831-1747353600-1747439999@caa4eternity.org
SUMMARY:End of Year Outing - 9th Grade
DESCRIPTION:
URL:https://caa4eternity.org/event/end-of-year-outing-9th-grade/
LOCATION:Columbus Adventist Academy\, 3650 Sunbury Rd\, Columbus\, OH\, 43219\, United States
ATTACH;FMTTYPE=image/png:https://caa4eternity.org/wp-content/uploads/2018/02/cropped-logo.png
END:VEVENT
BEGIN:VEVENT
DTSTART;VALUE=DATE:20250519
DTEND;VALUE=DATE:20250524
DTSTAMP:20260425T122030
CREATED:20240723T201318Z
LAST-MODIFIED:20240723T201318Z
UID:16833-1747612800-1748044799@caa4eternity.org
SUMMARY:Finals Week - 9th Grade
DESCRIPTION:
URL:https://caa4eternity.org/event/finals-week-9th-grade-2/
LOCATION:Columbus Adventist Academy\, 3650 Sunbury Rd\, Columbus\, OH\, 43219\, United States
ATTACH;FMTTYPE=image/png:https://caa4eternity.org/wp-content/uploads/2018/02/cropped-logo.png
END:VEVENT
BEGIN:VEVENT
DTSTART;VALUE=DATE:20250520
DTEND;VALUE=DATE:20250521
DTSTAMP:20260425T122030
CREATED:20240723T201356Z
LAST-MODIFIED:20240723T201356Z
UID:16836-1747699200-1747785599@caa4eternity.org
SUMMARY:Field Day
DESCRIPTION:
URL:https://caa4eternity.org/event/field-day/
LOCATION:Columbus Adventist Academy\, 3650 Sunbury Rd\, Columbus\, OH\, 43219\, United States
ATTACH;FMTTYPE=image/png:https://caa4eternity.org/wp-content/uploads/2018/02/cropped-logo.png
END:VEVENT
BEGIN:VEVENT
DTSTART;TZID=America/New_York:20250520T183000
DTEND;TZID=America/New_York:20250520T203000
DTSTAMP:20260425T122030
CREATED:20240723T201439Z
LAST-MODIFIED:20240723T201439Z
UID:16838-1747765800-1747773000@caa4eternity.org
SUMMARY:CAA Board Meeting
DESCRIPTION:
URL:https://caa4eternity.org/event/caa-board-meeting-10/
LOCATION:Columbus Adventist Academy\, 3650 Sunbury Rd\, Columbus\, OH\, 43219\, United States
ATTACH;FMTTYPE=image/png:https://caa4eternity.org/wp-content/uploads/2018/02/cropped-logo.png
END:VEVENT
BEGIN:VEVENT
DTSTART;VALUE=DATE:20250522
DTEND;VALUE=DATE:20250523
DTSTAMP:20260425T122030
CREATED:20240723T201635Z
LAST-MODIFIED:20240723T201635Z
UID:16840-1747872000-1747958399@caa4eternity.org
SUMMARY:Graduation Gr. K & 8th - K & 8th Last Day of School
DESCRIPTION:
URL:https://caa4eternity.org/event/graduation-gr-k-8th-k-8th-last-day-of-school/
LOCATION:Columbus Adventist Academy\, 3650 Sunbury Rd\, Columbus\, OH\, 43219\, United States
ATTACH;FMTTYPE=image/png:https://caa4eternity.org/wp-content/uploads/2018/02/cropped-logo.png
END:VEVENT
BEGIN:VEVENT
DTSTART;TZID=America/New_York:20250523T080000
DTEND;TZID=America/New_York:20250523T170000
DTSTAMP:20260425T122030
CREATED:20240723T201752Z
LAST-MODIFIED:20240723T201752Z
UID:16842-1747987200-1748019600@caa4eternity.org
SUMMARY:Last Day of School - Early Dismissal 2 PM
DESCRIPTION:
URL:https://caa4eternity.org/event/last-day-of-school-early-dismissal-2-pm/
LOCATION:Columbus Adventist Academy\, 3650 Sunbury Rd\, Columbus\, OH\, 43219\, United States
ATTACH;FMTTYPE=image/png:https://caa4eternity.org/wp-content/uploads/2018/02/cropped-logo.png
END:VEVENT
BEGIN:VEVENT
DTSTART;VALUE=DATE:20250801
DTEND;VALUE=DATE:20250802
DTSTAMP:20260425T122030
CREATED:20250715T235332Z
LAST-MODIFIED:20250715T235332Z
UID:23228-1754006400-1754092799@caa4eternity.org
SUMMARY:Teachers Report
DESCRIPTION:
URL:https://caa4eternity.org/event/teachers-report-2/
LOCATION:Columbus Adventist Academy\, 3650 Sunbury Rd\, Columbus\, OH\, 43219\, United States
END:VEVENT
BEGIN:VEVENT
DTSTART;TZID=America/New_York:20250817T180000
DTEND;TZID=America/New_York:20250817T200000
DTSTAMP:20260425T122030
CREATED:20250715T235552Z
LAST-MODIFIED:20250804T130202Z
UID:23230-1755453600-1755460800@caa4eternity.org
SUMMARY:Parent Orientation - via Zoom
DESCRIPTION:
URL:https://caa4eternity.org/event/parent-orientation-6pm-via-zoom/
LOCATION:Zoom Meet
END:VEVENT
BEGIN:VEVENT
DTSTART;VALUE=DATE:20250818
DTEND;VALUE=DATE:20250819
DTSTAMP:20260425T122030
CREATED:20250715T235905Z
LAST-MODIFIED:20250715T235905Z
UID:23234-1755475200-1755561599@caa4eternity.org
SUMMARY:First Day of School - 9th Grade
DESCRIPTION:
URL:https://caa4eternity.org/event/first-day-of-school-9th-grade-2/
LOCATION:Columbus Adventist Academy\, 3650 Sunbury Rd\, Columbus\, OH\, 43219\, United States
END:VEVENT
BEGIN:VEVENT
DTSTART;VALUE=DATE:20250819
DTEND;VALUE=DATE:20250820
DTSTAMP:20260425T122030
CREATED:20250715T235935Z
LAST-MODIFIED:20250715T235935Z
UID:23236-1755561600-1755647999@caa4eternity.org
SUMMARY:First Day of School - 10th Grade
DESCRIPTION:
URL:https://caa4eternity.org/event/first-day-of-school-10th-grade/
LOCATION:Columbus Adventist Academy\, 3650 Sunbury Rd\, Columbus\, OH\, 43219\, United States
END:VEVENT
BEGIN:VEVENT
DTSTART;VALUE=DATE:20250819
DTEND;VALUE=DATE:20250820
DTSTAMP:20260425T122030
CREATED:20250716T000025Z
LAST-MODIFIED:20250716T000025Z
UID:23238-1755561600-1755647999@caa4eternity.org
SUMMARY:CAA Board Meeting
DESCRIPTION:
URL:https://caa4eternity.org/event/caa-board-meeting-11/
LOCATION:Columbus Adventist Academy\, 3650 Sunbury Rd\, Columbus\, OH\, 43219\, United States
END:VEVENT
BEGIN:VEVENT
DTSTART;VALUE=DATE:20250820
DTEND;VALUE=DATE:20250821
DTSTAMP:20260425T122030
CREATED:20250716T000127Z
LAST-MODIFIED:20250716T000127Z
UID:23240-1755648000-1755734399@caa4eternity.org
SUMMARY:First Day of School K-8
DESCRIPTION:
URL:https://caa4eternity.org/event/first-day-of-school-k-8/
LOCATION:Columbus Adventist Academy\, 3650 Sunbury Rd\, Columbus\, OH\, 43219\, United States
END:VEVENT
BEGIN:VEVENT
DTSTART;VALUE=DATE:20250820
DTEND;VALUE=DATE:20250821
DTSTAMP:20260425T122030
CREATED:20250716T000214Z
LAST-MODIFIED:20250716T000214Z
UID:23242-1755648000-1755734399@caa4eternity.org
SUMMARY:Early Dismissal 2pm
DESCRIPTION:
URL:https://caa4eternity.org/event/early-dismissal-2pm-3/
LOCATION:Columbus Adventist Academy\, 3650 Sunbury Rd\, Columbus\, OH\, 43219\, United States
END:VEVENT
BEGIN:VEVENT
DTSTART;VALUE=DATE:20250901
DTEND;VALUE=DATE:20250902
DTSTAMP:20260425T122030
CREATED:20250716T000314Z
LAST-MODIFIED:20250716T000314Z
UID:23244-1756684800-1756771199@caa4eternity.org
SUMMARY:Labor Day - No School
DESCRIPTION:
URL:https://caa4eternity.org/event/labor-day-no-school-2/
LOCATION:Columbus Adventist Academy\, 3650 Sunbury Rd\, Columbus\, OH\, 43219\, United States
END:VEVENT
BEGIN:VEVENT
DTSTART;TZID=America/New_York:20250911T183000
DTEND;TZID=America/New_York:20250911T203000
DTSTAMP:20260425T122030
CREATED:20250716T000408Z
LAST-MODIFIED:20250804T130022Z
UID:23246-1757615400-1757622600@caa4eternity.org
SUMMARY:Open House
DESCRIPTION:
URL:https://caa4eternity.org/event/open-house-630pm/
LOCATION:Columbus Adventist Academy\, 3650 Sunbury Rd\, Columbus\, OH\, 43219\, United States
END:VEVENT
BEGIN:VEVENT
DTSTART;VALUE=DATE:20250914
DTEND;VALUE=DATE:20250915
DTSTAMP:20260425T122030
CREATED:20250716T000442Z
LAST-MODIFIED:20250716T000442Z
UID:23248-1757808000-1757894399@caa4eternity.org
SUMMARY:SAT Testing
DESCRIPTION:
URL:https://caa4eternity.org/event/sat-testing/
LOCATION:Columbus Adventist Academy\, 3650 Sunbury Rd\, Columbus\, OH\, 43219\, United States
END:VEVENT
END:VCALENDAR