BEGIN:VCALENDAR
VERSION:2.0
PRODID:-//Columbus Adventist Academy - ECPv6.15.20//NONSGML v1.0//EN
CALSCALE:GREGORIAN
METHOD:PUBLISH
X-WR-CALNAME:Columbus Adventist Academy
X-ORIGINAL-URL:https://caa4eternity.org
X-WR-CALDESC:Events for Columbus Adventist Academy
REFRESH-INTERVAL;VALUE=DURATION:PT1H
X-Robots-Tag:noindex
X-PUBLISHED-TTL:PT1H
BEGIN:VTIMEZONE
TZID:America/New_York
BEGIN:DAYLIGHT
TZOFFSETFROM:-0500
TZOFFSETTO:-0400
TZNAME:EDT
DTSTART:20230312T070000
END:DAYLIGHT
BEGIN:STANDARD
TZOFFSETFROM:-0400
TZOFFSETTO:-0500
TZNAME:EST
DTSTART:20231105T060000
END:STANDARD
BEGIN:DAYLIGHT
TZOFFSETFROM:-0500
TZOFFSETTO:-0400
TZNAME:EDT
DTSTART:20240310T070000
END:DAYLIGHT
BEGIN:STANDARD
TZOFFSETFROM:-0400
TZOFFSETTO:-0500
TZNAME:EST
DTSTART:20241103T060000
END:STANDARD
BEGIN:DAYLIGHT
TZOFFSETFROM:-0500
TZOFFSETTO:-0400
TZNAME:EDT
DTSTART:20250309T070000
END:DAYLIGHT
BEGIN:STANDARD
TZOFFSETFROM:-0400
TZOFFSETTO:-0500
TZNAME:EST
DTSTART:20251102T060000
END:STANDARD
END:VTIMEZONE
BEGIN:VEVENT
DTSTART;VALUE=DATE:20241106
DTEND;VALUE=DATE:20241107
DTSTAMP:20260425T065713
CREATED:20240722T200737Z
LAST-MODIFIED:20240722T200737Z
UID:16752-1730851200-1730937599@caa4eternity.org
SUMMARY:Awards Chapel
DESCRIPTION:
URL:https://caa4eternity.org/event/awards-chapel/
LOCATION:Columbus Adventist Academy\, 3650 Sunbury Rd\, Columbus\, OH\, 43219\, United States
ATTACH;FMTTYPE=image/png:https://caa4eternity.org/wp-content/uploads/2018/02/cropped-logo.png
END:VEVENT
BEGIN:VEVENT
DTSTART;VALUE=DATE:20241104
DTEND;VALUE=DATE:20241105
DTSTAMP:20260425T065713
CREATED:20240722T200611Z
LAST-MODIFIED:20240722T200611Z
UID:16748-1730678400-1730764799@caa4eternity.org
SUMMARY:Parent Teacher Conferences - No School
DESCRIPTION:
URL:https://caa4eternity.org/event/parent-teacher-conferences-no-school/
LOCATION:Columbus Adventist Academy\, 3650 Sunbury Rd\, Columbus\, OH\, 43219\, United States
ATTACH;FMTTYPE=image/png:https://caa4eternity.org/wp-content/uploads/2018/02/cropped-logo.png
END:VEVENT
BEGIN:VEVENT
DTSTART;VALUE=DATE:20241018
DTEND;VALUE=DATE:20241019
DTSTAMP:20260425T065713
CREATED:20240722T200311Z
LAST-MODIFIED:20240722T200311Z
UID:16742-1729209600-1729295999@caa4eternity.org
SUMMARY:End of 1st Quarter
DESCRIPTION:
URL:https://caa4eternity.org/event/end-of-1st-quarter/
LOCATION:Columbus Adventist Academy\, 3650 Sunbury Rd\, Columbus\, OH\, 43219\, United States
ATTACH;FMTTYPE=image/png:https://caa4eternity.org/wp-content/uploads/2018/02/cropped-logo.png
END:VEVENT
BEGIN:VEVENT
DTSTART;TZID=America/New_York:20241015T183000
DTEND;TZID=America/New_York:20241015T203000
DTSTAMP:20260425T065713
CREATED:20240722T200118Z
LAST-MODIFIED:20240722T200351Z
UID:16738-1729017000-1729024200@caa4eternity.org
SUMMARY:CAA Board Meeting
DESCRIPTION:
URL:https://caa4eternity.org/event/caa-board-meeting-3/
LOCATION:Columbus Adventist Academy\, 3650 Sunbury Rd\, Columbus\, OH\, 43219\, United States
ATTACH;FMTTYPE=image/png:https://caa4eternity.org/wp-content/uploads/2018/02/cropped-logo.png
END:VEVENT
BEGIN:VEVENT
DTSTART;VALUE=DATE:20241014
DTEND;VALUE=DATE:20241015
DTSTAMP:20260425T065713
CREATED:20240722T195857Z
LAST-MODIFIED:20240722T195857Z
UID:16735-1728864000-1728950399@caa4eternity.org
SUMMARY:Indigenous People Day - No School
DESCRIPTION:
URL:https://caa4eternity.org/event/indigenous-people-day-no-school/
LOCATION:Columbus Adventist Academy\, 3650 Sunbury Rd\, Columbus\, OH\, 43219\, United States
ATTACH;FMTTYPE=image/png:https://caa4eternity.org/wp-content/uploads/2018/02/cropped-logo.png
END:VEVENT
BEGIN:VEVENT
DTSTART;VALUE=DATE:20240925
DTEND;VALUE=DATE:20240926
DTSTAMP:20260425T065713
CREATED:20240722T195514Z
LAST-MODIFIED:20240722T195514Z
UID:16732-1727222400-1727308799@caa4eternity.org
SUMMARY:Grandparent's Day
DESCRIPTION:
URL:https://caa4eternity.org/event/grandparents-day/
LOCATION:Columbus Adventist Academy\, 3650 Sunbury Rd\, Columbus\, OH\, 43219\, United States
ATTACH;FMTTYPE=image/png:https://caa4eternity.org/wp-content/uploads/2018/02/cropped-logo.png
END:VEVENT
BEGIN:VEVENT
DTSTART;VALUE=DATE:20240921
DTEND;VALUE=DATE:20240925
DTSTAMP:20260425T065713
CREATED:20240722T195435Z
LAST-MODIFIED:20240722T195435Z
UID:16730-1726876800-1727222399@caa4eternity.org
SUMMARY:SALT 9th Grade Leadership Training
DESCRIPTION:
URL:https://caa4eternity.org/event/salt-9th-grade-leadership-training/
LOCATION:Columbus Adventist Academy\, 3650 Sunbury Rd\, Columbus\, OH\, 43219\, United States
ATTACH;FMTTYPE=image/png:https://caa4eternity.org/wp-content/uploads/2018/02/cropped-logo.png
END:VEVENT
BEGIN:VEVENT
DTSTART;VALUE=DATE:20240920
DTEND;VALUE=DATE:20240921
DTSTAMP:20260425T065713
CREATED:20240722T195249Z
LAST-MODIFIED:20240722T195249Z
UID:16728-1726790400-1726876799@caa4eternity.org
SUMMARY:Fall Week of Prayer
DESCRIPTION:
URL:https://caa4eternity.org/event/fall-week-of-prayer-5/
LOCATION:Columbus Adventist Academy\, 3650 Sunbury Rd\, Columbus\, OH\, 43219\, United States
ATTACH;FMTTYPE=image/png:https://caa4eternity.org/wp-content/uploads/2018/02/cropped-logo.png
END:VEVENT
BEGIN:VEVENT
DTSTART;VALUE=DATE:20240919
DTEND;VALUE=DATE:20240920
DTSTAMP:20260425T065713
CREATED:20240722T195127Z
LAST-MODIFIED:20240722T195127Z
UID:16726-1726704000-1726790399@caa4eternity.org
SUMMARY:Fall Week of Prayer
DESCRIPTION:
URL:https://caa4eternity.org/event/fall-week-of-prayer-4/
LOCATION:Columbus Adventist Academy\, 3650 Sunbury Rd\, Columbus\, OH\, 43219\, United States
ATTACH;FMTTYPE=image/png:https://caa4eternity.org/wp-content/uploads/2018/02/cropped-logo.png
END:VEVENT
BEGIN:VEVENT
DTSTART;VALUE=DATE:20240918
DTEND;VALUE=DATE:20240919
DTSTAMP:20260425T065713
CREATED:20240722T200212Z
LAST-MODIFIED:20240722T200212Z
UID:16740-1726617600-1726703999@caa4eternity.org
SUMMARY:Teacher Work Day - No School
DESCRIPTION:
URL:https://caa4eternity.org/event/teacher-work-day-no-school/
LOCATION:Columbus Adventist Academy\, 3650 Sunbury Rd\, Columbus\, OH\, 43219\, United States
ATTACH;FMTTYPE=image/png:https://caa4eternity.org/wp-content/uploads/2018/02/cropped-logo.png
END:VEVENT
BEGIN:VEVENT
DTSTART;VALUE=DATE:20240918
DTEND;VALUE=DATE:20240919
DTSTAMP:20260425T065713
CREATED:20240722T195053Z
LAST-MODIFIED:20240722T195053Z
UID:16720-1726617600-1726703999@caa4eternity.org
SUMMARY:Fall Week of Prayer
DESCRIPTION:
URL:https://caa4eternity.org/event/fall-week-of-prayer-3/
LOCATION:Columbus Adventist Academy\, 3650 Sunbury Rd\, Columbus\, OH\, 43219\, United States
END:VEVENT
BEGIN:VEVENT
DTSTART;TZID=America/New_York:20240917T183000
DTEND;TZID=America/New_York:20240917T203000
DTSTAMP:20260425T065713
CREATED:20240722T194931Z
LAST-MODIFIED:20240722T195012Z
UID:16717-1726597800-1726605000@caa4eternity.org
SUMMARY:CAA Board Meeting
DESCRIPTION:
URL:https://caa4eternity.org/event/caa-board-meeting-2/
LOCATION:Columbus Adventist Academy\, 3650 Sunbury Rd\, Columbus\, OH\, 43219\, United States
ATTACH;FMTTYPE=image/png:https://caa4eternity.org/wp-content/uploads/2018/02/cropped-logo.png
END:VEVENT
BEGIN:VEVENT
DTSTART;VALUE=DATE:20240917
DTEND;VALUE=DATE:20240918
DTSTAMP:20260425T065713
CREATED:20240722T194840Z
LAST-MODIFIED:20240722T194840Z
UID:16715-1726531200-1726617599@caa4eternity.org
SUMMARY:Fall Week of Prayer
DESCRIPTION:
URL:https://caa4eternity.org/event/fall-week-of-prayer-2/
LOCATION:Columbus Adventist Academy\, 3650 Sunbury Rd\, Columbus\, OH\, 43219\, United States
ATTACH;FMTTYPE=image/png:https://caa4eternity.org/wp-content/uploads/2018/02/cropped-logo.png
END:VEVENT
BEGIN:VEVENT
DTSTART;VALUE=DATE:20240916
DTEND;VALUE=DATE:20240917
DTSTAMP:20260425T065713
CREATED:20240722T194759Z
LAST-MODIFIED:20240722T194759Z
UID:16713-1726444800-1726531199@caa4eternity.org
SUMMARY:Fall Week of Prayer
DESCRIPTION:
URL:https://caa4eternity.org/event/fall-week-of-prayer/
LOCATION:Columbus Adventist Academy\, 3650 Sunbury Rd\, Columbus\, OH\, 43219\, United States
ATTACH;FMTTYPE=image/png:https://caa4eternity.org/wp-content/uploads/2018/02/cropped-logo.png
END:VEVENT
BEGIN:VEVENT
DTSTART;VALUE=DATE:20240915
DTEND;VALUE=DATE:20240916
DTSTAMP:20260425T065713
CREATED:20240722T194648Z
LAST-MODIFIED:20240722T194648Z
UID:16710-1726358400-1726444799@caa4eternity.org
SUMMARY:Hispanic Heritage Month
DESCRIPTION:
URL:https://caa4eternity.org/event/hispanic-heritage-month/
LOCATION:Columbus Adventist Academy\, 3650 Sunbury Rd\, Columbus\, OH\, 43219\, United States
ATTACH;FMTTYPE=image/png:https://caa4eternity.org/wp-content/uploads/2018/02/cropped-logo.png
END:VEVENT
BEGIN:VEVENT
DTSTART;VALUE=DATE:20240912
DTEND;VALUE=DATE:20240913
DTSTAMP:20260425T065713
CREATED:20240722T194427Z
LAST-MODIFIED:20240722T194427Z
UID:16707-1726099200-1726185599@caa4eternity.org
SUMMARY:Open House
DESCRIPTION:
URL:https://caa4eternity.org/event/open-house/
LOCATION:Columbus Adventist Academy\, 3650 Sunbury Rd\, Columbus\, OH\, 43219\, United States
ATTACH;FMTTYPE=image/png:https://caa4eternity.org/wp-content/uploads/2018/02/cropped-logo.png
END:VEVENT
BEGIN:VEVENT
DTSTART;VALUE=DATE:20240902
DTEND;VALUE=DATE:20240903
DTSTAMP:20260425T065713
CREATED:20240722T194325Z
LAST-MODIFIED:20240722T194325Z
UID:16706-1725235200-1725321599@caa4eternity.org
SUMMARY:Labor Day - No School
DESCRIPTION:No School
URL:https://caa4eternity.org/event/labor-day-no-school/
LOCATION:Columbus Adventist Academy\, 3650 Sunbury Rd\, Columbus\, OH\, 43219\, United States
ATTACH;FMTTYPE=image/png:https://caa4eternity.org/wp-content/uploads/2018/02/cropped-logo.png
END:VEVENT
BEGIN:VEVENT
DTSTART;VALUE=DATE:20240821
DTEND;VALUE=DATE:20240822
DTSTAMP:20260425T065713
CREATED:20240712T162306Z
LAST-MODIFIED:20240722T194120Z
UID:16636-1724198400-1724284799@caa4eternity.org
SUMMARY:First Day of School
DESCRIPTION:Early Dismissal at 2PM
URL:https://caa4eternity.org/event/first-day-of-school/
LOCATION:Columbus Adventist Academy\, 3650 Sunbury Rd\, Columbus\, OH\, 43219\, United States
ATTACH;FMTTYPE=image/png:https://caa4eternity.org/wp-content/uploads/2018/02/cropped-logo.png
END:VEVENT
BEGIN:VEVENT
DTSTART;TZID=America/New_York:20240820T183000
DTEND;TZID=America/New_York:20240820T200000
DTSTAMP:20260425T065713
CREATED:20240712T162207Z
LAST-MODIFIED:20240712T162207Z
UID:16634-1724178600-1724184000@caa4eternity.org
SUMMARY:CAA Board Meeting
DESCRIPTION:
URL:https://caa4eternity.org/event/caa-board-meeting/
LOCATION:Columbus Adventist Academy\, 3650 Sunbury Rd\, Columbus\, OH\, 43219\, United States
END:VEVENT
BEGIN:VEVENT
DTSTART;TZID=America/New_York:20240819T183000
DTEND;TZID=America/New_York:20240819T200000
DTSTAMP:20260425T065713
CREATED:20240712T162008Z
LAST-MODIFIED:20240712T162008Z
UID:16629-1724092200-1724097600@caa4eternity.org
SUMMARY:Parent Orientation
DESCRIPTION:
URL:https://caa4eternity.org/event/parent-orientation-2/
LOCATION:Columbus Adventist Academy\, 3650 Sunbury Rd\, Columbus\, OH\, 43219\, United States
END:VEVENT
BEGIN:VEVENT
DTSTART;VALUE=DATE:20240819
DTEND;VALUE=DATE:20240821
DTSTAMP:20260425T065713
CREATED:20240712T162109Z
LAST-MODIFIED:20240722T194527Z
UID:16632-1724025600-1724198399@caa4eternity.org
SUMMARY:First Day of School (9th Grade)
DESCRIPTION:
URL:https://caa4eternity.org/event/first-day-of-school-9th-grade/
LOCATION:Columbus Adventist Academy\, 3650 Sunbury Rd\, Columbus\, OH\, 43219\, United States
END:VEVENT
BEGIN:VEVENT
DTSTART;TZID=America/New_York:20240818T150000
DTEND;TZID=America/New_York:20240818T163000
DTSTAMP:20260425T065713
CREATED:20240712T161734Z
LAST-MODIFIED:20240712T161734Z
UID:16626-1723993200-1723998600@caa4eternity.org
SUMMARY:Parent Orientation
DESCRIPTION:Zoom link forthcoming.
URL:https://caa4eternity.org/event/parent-orientation/
LOCATION:Zoom Meet
END:VEVENT
BEGIN:VEVENT
DTSTART;VALUE=DATE:20240801
DTEND;VALUE=DATE:20240802
DTSTAMP:20260425T065713
CREATED:20240712T161610Z
LAST-MODIFIED:20240712T161610Z
UID:16624-1722470400-1722556799@caa4eternity.org
SUMMARY:Teachers report
DESCRIPTION:
URL:https://caa4eternity.org/event/teachers-report/
LOCATION:OH
ATTACH;FMTTYPE=image/png:https://caa4eternity.org/wp-content/uploads/2018/02/cropped-logo.png
END:VEVENT
BEGIN:VEVENT
DTSTART;TZID=America/New_York:20240723T080000
DTEND;TZID=America/New_York:20240723T170000
DTSTAMP:20260425T065713
CREATED:20240723T200421Z
LAST-MODIFIED:20240723T200421Z
UID:16815-1721721600-1721754000@caa4eternity.org
SUMMARY:CAA Board Meeting
DESCRIPTION:
URL:https://caa4eternity.org/event/caa-board-meeting-8/
LOCATION:OH
END:VEVENT
END:VCALENDAR