BEGIN:VCALENDAR
VERSION:2.0
PRODID:-//Columbus Adventist Academy - ECPv6.15.20//NONSGML v1.0//EN
CALSCALE:GREGORIAN
METHOD:PUBLISH
X-WR-CALNAME:Columbus Adventist Academy
X-ORIGINAL-URL:https://caa4eternity.org
X-WR-CALDESC:Events for Columbus Adventist Academy
REFRESH-INTERVAL;VALUE=DURATION:PT1H
X-Robots-Tag:noindex
X-PUBLISHED-TTL:PT1H
BEGIN:VTIMEZONE
TZID:America/New_York
BEGIN:DAYLIGHT
TZOFFSETFROM:-0500
TZOFFSETTO:-0400
TZNAME:EDT
DTSTART:20230312T070000
END:DAYLIGHT
BEGIN:STANDARD
TZOFFSETFROM:-0400
TZOFFSETTO:-0500
TZNAME:EST
DTSTART:20231105T060000
END:STANDARD
BEGIN:DAYLIGHT
TZOFFSETFROM:-0500
TZOFFSETTO:-0400
TZNAME:EDT
DTSTART:20240310T070000
END:DAYLIGHT
BEGIN:STANDARD
TZOFFSETFROM:-0400
TZOFFSETTO:-0500
TZNAME:EST
DTSTART:20241103T060000
END:STANDARD
BEGIN:DAYLIGHT
TZOFFSETFROM:-0500
TZOFFSETTO:-0400
TZNAME:EDT
DTSTART:20250309T070000
END:DAYLIGHT
BEGIN:STANDARD
TZOFFSETFROM:-0400
TZOFFSETTO:-0500
TZNAME:EST
DTSTART:20251102T060000
END:STANDARD
BEGIN:DAYLIGHT
TZOFFSETFROM:-0500
TZOFFSETTO:-0400
TZNAME:EDT
DTSTART:20260308T070000
END:DAYLIGHT
BEGIN:STANDARD
TZOFFSETFROM:-0400
TZOFFSETTO:-0500
TZNAME:EST
DTSTART:20261101T060000
END:STANDARD
END:VTIMEZONE
BEGIN:VEVENT
DTSTART;VALUE=DATE:20250320
DTEND;VALUE=DATE:20250321
DTSTAMP:20260425T104507
CREATED:20250716T003934Z
LAST-MODIFIED:20250716T003934Z
UID:23311-1742428800-1742515199@caa4eternity.org
SUMMARY:End of 3rd Quarter
DESCRIPTION:
URL:https://caa4eternity.org/event/end-of-3rd-quarter-2/
LOCATION:Columbus Adventist Academy\, 3650 Sunbury Rd\, Columbus\, OH\, 43219\, United States
END:VEVENT
BEGIN:VEVENT
DTSTART;VALUE=DATE:20250319
DTEND;VALUE=DATE:20250320
DTSTAMP:20260425T104507
CREATED:20240723T200631Z
LAST-MODIFIED:20240723T200631Z
UID:16817-1742342400-1742428799@caa4eternity.org
SUMMARY:International Day
DESCRIPTION:
URL:https://caa4eternity.org/event/international-day/
LOCATION:Columbus Adventist Academy\, 3650 Sunbury Rd\, Columbus\, OH\, 43219\, United States
ATTACH;FMTTYPE=image/png:https://caa4eternity.org/wp-content/uploads/2018/02/cropped-logo.png
END:VEVENT
BEGIN:VEVENT
DTSTART;VALUE=DATE:20250314
DTEND;VALUE=DATE:20250315
DTSTAMP:20260425T104507
CREATED:20240723T200125Z
LAST-MODIFIED:20240723T200125Z
UID:16813-1741910400-1741996799@caa4eternity.org
SUMMARY:End of 3rd Quarter
DESCRIPTION:
URL:https://caa4eternity.org/event/end-of-3rd-quarter/
LOCATION:Columbus Adventist Academy\, 3650 Sunbury Rd\, Columbus\, OH\, 43219\, United States
ATTACH;FMTTYPE=image/png:https://caa4eternity.org/wp-content/uploads/2018/02/cropped-logo.png
END:VEVENT
BEGIN:VEVENT
DTSTART;VALUE=DATE:20250314
DTEND;VALUE=DATE:20250315
DTSTAMP:20260425T104507
CREATED:20240723T200032Z
LAST-MODIFIED:20240723T200032Z
UID:16811-1741910400-1741996799@caa4eternity.org
SUMMARY:Teacher Work Day - No School
DESCRIPTION:
URL:https://caa4eternity.org/event/teacher-work-day-no-school-3/
LOCATION:Columbus Adventist Academy\, 3650 Sunbury Rd\, Columbus\, OH\, 43219\, United States
ATTACH;FMTTYPE=image/png:https://caa4eternity.org/wp-content/uploads/2018/02/cropped-logo.png
END:VEVENT
BEGIN:VEVENT
DTSTART;VALUE=DATE:20250310
DTEND;VALUE=DATE:20250313
DTSTAMP:20260425T104507
CREATED:20240722T235930Z
LAST-MODIFIED:20240722T235930Z
UID:16803-1741564800-1741823999@caa4eternity.org
SUMMARY:Social Studies Trip (6-8)
DESCRIPTION:
URL:https://caa4eternity.org/event/social-studies-trip-6-8/
LOCATION:Columbus Adventist Academy\, 3650 Sunbury Rd\, Columbus\, OH\, 43219\, United States
ATTACH;FMTTYPE=image/png:https://caa4eternity.org/wp-content/uploads/2018/02/cropped-logo.png
END:VEVENT
BEGIN:VEVENT
DTSTART;TZID=America/New_York:20250227T190000
DTEND;TZID=America/New_York:20250227T210000
DTSTAMP:20260425T104507
CREATED:20240722T235223Z
LAST-MODIFIED:20240722T235223Z
UID:16801-1740682800-1740690000@caa4eternity.org
SUMMARY:Black History Program
DESCRIPTION:
URL:https://caa4eternity.org/event/black-history-program/
LOCATION:Columbus Adventist Academy\, 3650 Sunbury Rd\, Columbus\, OH\, 43219\, United States
ATTACH;FMTTYPE=image/png:https://caa4eternity.org/wp-content/uploads/2018/02/cropped-logo.png
END:VEVENT
BEGIN:VEVENT
DTSTART;TZID=America/New_York:20250218T183000
DTEND;TZID=America/New_York:20250218T203000
DTSTAMP:20260425T104507
CREATED:20240722T235121Z
LAST-MODIFIED:20240722T235121Z
UID:16799-1739903400-1739910600@caa4eternity.org
SUMMARY:CAA Board Meeting
DESCRIPTION:
URL:https://caa4eternity.org/event/caa-board-meeting-7/
LOCATION:Columbus Adventist Academy\, 3650 Sunbury Rd\, Columbus\, OH\, 43219\, United States
ATTACH;FMTTYPE=image/png:https://caa4eternity.org/wp-content/uploads/2018/02/cropped-logo.png
END:VEVENT
BEGIN:VEVENT
DTSTART;VALUE=DATE:20250217
DTEND;VALUE=DATE:20250218
DTSTAMP:20260425T104507
CREATED:20240722T235015Z
LAST-MODIFIED:20240722T235015Z
UID:16797-1739750400-1739836799@caa4eternity.org
SUMMARY:Presidents' Day - No School
DESCRIPTION:
URL:https://caa4eternity.org/event/presidents-day-no-school/
LOCATION:Columbus Adventist Academy\, 3650 Sunbury Rd\, Columbus\, OH\, 43219\, United States
ATTACH;FMTTYPE=image/png:https://caa4eternity.org/wp-content/uploads/2018/02/cropped-logo.png
END:VEVENT
BEGIN:VEVENT
DTSTART;VALUE=DATE:20250203
DTEND;VALUE=DATE:20250204
DTSTAMP:20260425T104507
CREATED:20240722T234649Z
LAST-MODIFIED:20240722T234649Z
UID:16795-1738540800-1738627199@caa4eternity.org
SUMMARY:Parent-Teacher Conference - No School
DESCRIPTION:
URL:https://caa4eternity.org/event/parent-teacher-conference-no-school/
LOCATION:Columbus Adventist Academy\, 3650 Sunbury Rd\, Columbus\, OH\, 43219\, United States
ATTACH;FMTTYPE=image/png:https://caa4eternity.org/wp-content/uploads/2018/02/cropped-logo.png
END:VEVENT
BEGIN:VEVENT
DTSTART;VALUE=DATE:20250129
DTEND;VALUE=DATE:20250130
DTSTAMP:20260425T104507
CREATED:20240722T234541Z
LAST-MODIFIED:20240722T234541Z
UID:16793-1738108800-1738195199@caa4eternity.org
SUMMARY:Awards Chapel
DESCRIPTION:
URL:https://caa4eternity.org/event/awards-chapel-2/
LOCATION:Columbus Adventist Academy\, 3650 Sunbury Rd\, Columbus\, OH\, 43219\, United States
ATTACH;FMTTYPE=image/png:https://caa4eternity.org/wp-content/uploads/2018/02/cropped-logo.png
END:VEVENT
BEGIN:VEVENT
DTSTART;TZID=America/New_York:20250121T183000
DTEND;TZID=America/New_York:20250121T203000
DTSTAMP:20260425T104507
CREATED:20240722T233637Z
LAST-MODIFIED:20240722T233637Z
UID:16790-1737484200-1737491400@caa4eternity.org
SUMMARY:CAA Board Meeting
DESCRIPTION:
URL:https://caa4eternity.org/event/caa-board-meeting-6/
LOCATION:Columbus Adventist Academy\, 3650 Sunbury Rd\, Columbus\, OH\, 43219\, United States
ATTACH;FMTTYPE=image/png:https://caa4eternity.org/wp-content/uploads/2018/02/cropped-logo.png
END:VEVENT
BEGIN:VEVENT
DTSTART;VALUE=DATE:20250110
DTEND;VALUE=DATE:20250111
DTSTAMP:20260425T104507
CREATED:20240722T233350Z
LAST-MODIFIED:20240722T233350Z
UID:16788-1736467200-1736553599@caa4eternity.org
SUMMARY:M.L.K. Day - No School
DESCRIPTION:
URL:https://caa4eternity.org/event/m-l-k-day-no-school/
LOCATION:Columbus Adventist Academy\, 3650 Sunbury Rd\, Columbus\, OH\, 43219\, United States
ATTACH;FMTTYPE=image/png:https://caa4eternity.org/wp-content/uploads/2018/02/cropped-logo.png
END:VEVENT
BEGIN:VEVENT
DTSTART;VALUE=DATE:20250110
DTEND;VALUE=DATE:20250111
DTSTAMP:20260425T104507
CREATED:20240722T233306Z
LAST-MODIFIED:20240722T233306Z
UID:16786-1736467200-1736553599@caa4eternity.org
SUMMARY:Teacher Work Day - No School
DESCRIPTION:
URL:https://caa4eternity.org/event/teacher-work-day-no-school-2/
LOCATION:Columbus Adventist Academy\, 3650 Sunbury Rd\, Columbus\, OH\, 43219\, United States
ATTACH;FMTTYPE=image/png:https://caa4eternity.org/wp-content/uploads/2018/02/cropped-logo.png
END:VEVENT
BEGIN:VEVENT
DTSTART;VALUE=DATE:20250110
DTEND;VALUE=DATE:20250111
DTSTAMP:20260425T104507
CREATED:20240722T233227Z
LAST-MODIFIED:20240722T233227Z
UID:16784-1736467200-1736553599@caa4eternity.org
SUMMARY:End of 2nd Quarter
DESCRIPTION:
URL:https://caa4eternity.org/event/end-of-2nd-quarter/
LOCATION:Columbus Adventist Academy\, 3650 Sunbury Rd\, Columbus\, OH\, 43219\, United States
ATTACH;FMTTYPE=image/png:https://caa4eternity.org/wp-content/uploads/2018/02/cropped-logo.png
END:VEVENT
BEGIN:VEVENT
DTSTART;VALUE=DATE:20250106
DTEND;VALUE=DATE:20250107
DTSTAMP:20260425T104507
CREATED:20240722T233121Z
LAST-MODIFIED:20240722T233121Z
UID:16780-1736121600-1736207999@caa4eternity.org
SUMMARY:School Resumes
DESCRIPTION:
URL:https://caa4eternity.org/event/school-resumes/
LOCATION:Columbus Adventist Academy\, 3650 Sunbury Rd\, Columbus\, OH\, 43219\, United States
ATTACH;FMTTYPE=image/png:https://caa4eternity.org/wp-content/uploads/2018/02/cropped-logo.png
END:VEVENT
BEGIN:VEVENT
DTSTART;VALUE=DATE:20241223
DTEND;VALUE=DATE:20250104
DTSTAMP:20260425T104507
CREATED:20240722T201903Z
LAST-MODIFIED:20240722T201903Z
UID:16777-1734912000-1735948799@caa4eternity.org
SUMMARY:Christmas Break - No School
DESCRIPTION:
URL:https://caa4eternity.org/event/christmas-break-no-school/
LOCATION:Columbus Adventist Academy\, 3650 Sunbury Rd\, Columbus\, OH\, 43219\, United States
ATTACH;FMTTYPE=image/png:https://caa4eternity.org/wp-content/uploads/2018/02/cropped-logo.png
END:VEVENT
BEGIN:VEVENT
DTSTART;VALUE=DATE:20241220
DTEND;VALUE=DATE:20241221
DTSTAMP:20260425T104507
CREATED:20240722T201749Z
LAST-MODIFIED:20241217T205924Z
UID:16775-1734652800-1734739199@caa4eternity.org
SUMMARY:Early Dismissal 2PM
DESCRIPTION:
URL:https://caa4eternity.org/event/early-dismissal-2pm-2/
LOCATION:Columbus Adventist Academy\, 3650 Sunbury Rd\, Columbus\, OH\, 43219\, United States
ATTACH;FMTTYPE=image/png:https://caa4eternity.org/wp-content/uploads/2018/02/cropped-logo.png
END:VEVENT
BEGIN:VEVENT
DTSTART;TZID=America/New_York:20241219T190000
DTEND;TZID=America/New_York:20241219T210000
DTSTAMP:20260425T104507
CREATED:20240722T201645Z
LAST-MODIFIED:20240722T201645Z
UID:16772-1734634800-1734642000@caa4eternity.org
SUMMARY:Christmas Program
DESCRIPTION:
URL:https://caa4eternity.org/event/christmas-program/
LOCATION:Columbus Adventist Academy\, 3650 Sunbury Rd\, Columbus\, OH\, 43219\, United States
ATTACH;FMTTYPE=image/png:https://caa4eternity.org/wp-content/uploads/2018/02/cropped-logo.png
END:VEVENT
BEGIN:VEVENT
DTSTART;TZID=America/New_York:20241217T183000
DTEND;TZID=America/New_York:20241217T203000
DTSTAMP:20260425T104507
CREATED:20240722T201534Z
LAST-MODIFIED:20240722T201534Z
UID:16767-1734460200-1734467400@caa4eternity.org
SUMMARY:CAA Board Meeting
DESCRIPTION:
URL:https://caa4eternity.org/event/caa-board-meeting-5/
LOCATION:Columbus Adventist Academy\, 3650 Sunbury Rd\, Columbus\, OH\, 43219\, United States
ATTACH;FMTTYPE=image/png:https://caa4eternity.org/wp-content/uploads/2018/02/cropped-logo.png
END:VEVENT
BEGIN:VEVENT
DTSTART;VALUE=DATE:20241216
DTEND;VALUE=DATE:20241221
DTSTAMP:20260425T104507
CREATED:20240722T201427Z
LAST-MODIFIED:20240722T201427Z
UID:16763-1734307200-1734739199@caa4eternity.org
SUMMARY:Finals Week\, 9th Grade
DESCRIPTION:
URL:https://caa4eternity.org/event/finals-week-9th-grade/
LOCATION:Columbus Adventist Academy\, 3650 Sunbury Rd\, Columbus\, OH\, 43219\, United States
ATTACH;FMTTYPE=image/png:https://caa4eternity.org/wp-content/uploads/2018/02/cropped-logo.png
END:VEVENT
BEGIN:VEVENT
DTSTART;VALUE=DATE:20241125
DTEND;VALUE=DATE:20241130
DTSTAMP:20260425T104507
CREATED:20240722T201255Z
LAST-MODIFIED:20240726T160450Z
UID:16760-1732492800-1732924799@caa4eternity.org
SUMMARY:Thanksgiving Break - No School
DESCRIPTION:
URL:https://caa4eternity.org/event/thanksgiving-break-no-school/
LOCATION:Columbus Adventist Academy\, 3650 Sunbury Rd\, Columbus\, OH\, 43219\, United States
ATTACH;FMTTYPE=image/png:https://caa4eternity.org/wp-content/uploads/2018/02/cropped-logo.png
END:VEVENT
BEGIN:VEVENT
DTSTART;VALUE=DATE:20241122
DTEND;VALUE=DATE:20241123
DTSTAMP:20260425T104507
CREATED:20240722T201120Z
LAST-MODIFIED:20240722T201120Z
UID:16758-1732233600-1732319999@caa4eternity.org
SUMMARY:Early Dismissal 2PM
DESCRIPTION:
URL:https://caa4eternity.org/event/early-dismissal-2pm/
LOCATION:Columbus Adventist Academy\, 3650 Sunbury Rd\, Columbus\, OH\, 43219\, United States
ATTACH;FMTTYPE=image/png:https://caa4eternity.org/wp-content/uploads/2018/02/cropped-logo.png
END:VEVENT
BEGIN:VEVENT
DTSTART;TZID=America/New_York:20241119T183000
DTEND;TZID=America/New_York:20241119T203000
DTSTAMP:20260425T104507
CREATED:20240722T201016Z
LAST-MODIFIED:20240722T201016Z
UID:16756-1732041000-1732048200@caa4eternity.org
SUMMARY:CAA Board Meeting
DESCRIPTION:
URL:https://caa4eternity.org/event/caa-board-meeting-4/
LOCATION:Columbus Adventist Academy\, 3650 Sunbury Rd\, Columbus\, OH\, 43219\, United States
ATTACH;FMTTYPE=image/png:https://caa4eternity.org/wp-content/uploads/2018/02/cropped-logo.png
END:VEVENT
BEGIN:VEVENT
DTSTART;VALUE=DATE:20241111
DTEND;VALUE=DATE:20241112
DTSTAMP:20260425T104507
CREATED:20240722T200829Z
LAST-MODIFIED:20240722T200829Z
UID:16754-1731283200-1731369599@caa4eternity.org
SUMMARY:Veterans Day - No School
DESCRIPTION:
URL:https://caa4eternity.org/event/veterans-day-no-school/
LOCATION:Columbus Adventist Academy\, 3650 Sunbury Rd\, Columbus\, OH\, 43219\, United States
ATTACH;FMTTYPE=image/png:https://caa4eternity.org/wp-content/uploads/2018/02/cropped-logo.png
END:VEVENT
BEGIN:VEVENT
DTSTART;VALUE=DATE:20241106
DTEND;VALUE=DATE:20241107
DTSTAMP:20260425T104507
CREATED:20240722T200737Z
LAST-MODIFIED:20240722T200737Z
UID:16752-1730851200-1730937599@caa4eternity.org
SUMMARY:Awards Chapel
DESCRIPTION:
URL:https://caa4eternity.org/event/awards-chapel/
LOCATION:Columbus Adventist Academy\, 3650 Sunbury Rd\, Columbus\, OH\, 43219\, United States
ATTACH;FMTTYPE=image/png:https://caa4eternity.org/wp-content/uploads/2018/02/cropped-logo.png
END:VEVENT
BEGIN:VEVENT
DTSTART;VALUE=DATE:20241104
DTEND;VALUE=DATE:20241105
DTSTAMP:20260425T104507
CREATED:20240722T200611Z
LAST-MODIFIED:20240722T200611Z
UID:16748-1730678400-1730764799@caa4eternity.org
SUMMARY:Parent Teacher Conferences - No School
DESCRIPTION:
URL:https://caa4eternity.org/event/parent-teacher-conferences-no-school/
LOCATION:Columbus Adventist Academy\, 3650 Sunbury Rd\, Columbus\, OH\, 43219\, United States
ATTACH;FMTTYPE=image/png:https://caa4eternity.org/wp-content/uploads/2018/02/cropped-logo.png
END:VEVENT
BEGIN:VEVENT
DTSTART;VALUE=DATE:20241018
DTEND;VALUE=DATE:20241019
DTSTAMP:20260425T104507
CREATED:20240722T200311Z
LAST-MODIFIED:20240722T200311Z
UID:16742-1729209600-1729295999@caa4eternity.org
SUMMARY:End of 1st Quarter
DESCRIPTION:
URL:https://caa4eternity.org/event/end-of-1st-quarter/
LOCATION:Columbus Adventist Academy\, 3650 Sunbury Rd\, Columbus\, OH\, 43219\, United States
ATTACH;FMTTYPE=image/png:https://caa4eternity.org/wp-content/uploads/2018/02/cropped-logo.png
END:VEVENT
BEGIN:VEVENT
DTSTART;TZID=America/New_York:20241015T183000
DTEND;TZID=America/New_York:20241015T203000
DTSTAMP:20260425T104507
CREATED:20240722T200118Z
LAST-MODIFIED:20240722T200351Z
UID:16738-1729017000-1729024200@caa4eternity.org
SUMMARY:CAA Board Meeting
DESCRIPTION:
URL:https://caa4eternity.org/event/caa-board-meeting-3/
LOCATION:Columbus Adventist Academy\, 3650 Sunbury Rd\, Columbus\, OH\, 43219\, United States
ATTACH;FMTTYPE=image/png:https://caa4eternity.org/wp-content/uploads/2018/02/cropped-logo.png
END:VEVENT
BEGIN:VEVENT
DTSTART;VALUE=DATE:20241014
DTEND;VALUE=DATE:20241015
DTSTAMP:20260425T104507
CREATED:20240722T195857Z
LAST-MODIFIED:20240722T195857Z
UID:16735-1728864000-1728950399@caa4eternity.org
SUMMARY:Indigenous People Day - No School
DESCRIPTION:
URL:https://caa4eternity.org/event/indigenous-people-day-no-school/
LOCATION:Columbus Adventist Academy\, 3650 Sunbury Rd\, Columbus\, OH\, 43219\, United States
ATTACH;FMTTYPE=image/png:https://caa4eternity.org/wp-content/uploads/2018/02/cropped-logo.png
END:VEVENT
BEGIN:VEVENT
DTSTART;VALUE=DATE:20240925
DTEND;VALUE=DATE:20240926
DTSTAMP:20260425T104507
CREATED:20240722T195514Z
LAST-MODIFIED:20240722T195514Z
UID:16732-1727222400-1727308799@caa4eternity.org
SUMMARY:Grandparent's Day
DESCRIPTION:
URL:https://caa4eternity.org/event/grandparents-day/
LOCATION:Columbus Adventist Academy\, 3650 Sunbury Rd\, Columbus\, OH\, 43219\, United States
ATTACH;FMTTYPE=image/png:https://caa4eternity.org/wp-content/uploads/2018/02/cropped-logo.png
END:VEVENT
END:VCALENDAR